BEGIN:VCALENDAR
VERSION:2.0
PRODID:-//Association Ressources Polyhandicap Hauts-de-France - ECPv6.15.20//NONSGML v1.0//EN
CALSCALE:GREGORIAN
METHOD:PUBLISH
X-WR-CALNAME:Association Ressources Polyhandicap Hauts-de-France
X-ORIGINAL-URL:https://ressourcespolyhandicap.org
X-WR-CALDESC:Évènements pour Association Ressources Polyhandicap Hauts-de-France
REFRESH-INTERVAL;VALUE=DURATION:PT1H
X-Robots-Tag:noindex
X-PUBLISHED-TTL:PT1H
BEGIN:VTIMEZONE
TZID:Europe/Paris
BEGIN:DAYLIGHT
TZOFFSETFROM:+0100
TZOFFSETTO:+0200
TZNAME:CEST
DTSTART:20220327T010000
END:DAYLIGHT
BEGIN:STANDARD
TZOFFSETFROM:+0200
TZOFFSETTO:+0100
TZNAME:CET
DTSTART:20221030T010000
END:STANDARD
BEGIN:DAYLIGHT
TZOFFSETFROM:+0100
TZOFFSETTO:+0200
TZNAME:CEST
DTSTART:20230326T010000
END:DAYLIGHT
BEGIN:STANDARD
TZOFFSETFROM:+0200
TZOFFSETTO:+0100
TZNAME:CET
DTSTART:20231029T010000
END:STANDARD
BEGIN:DAYLIGHT
TZOFFSETFROM:+0100
TZOFFSETTO:+0200
TZNAME:CEST
DTSTART:20240331T010000
END:DAYLIGHT
BEGIN:STANDARD
TZOFFSETFROM:+0200
TZOFFSETTO:+0100
TZNAME:CET
DTSTART:20241027T010000
END:STANDARD
END:VTIMEZONE
BEGIN:VEVENT
DTSTART;VALUE=DATE:20230324
DTEND;VALUE=DATE:20230325
DTSTAMP:20260421T100730
CREATED:20221020T151742Z
LAST-MODIFIED:20221020T151742Z
UID:5719-1679616000-1679702399@ressourcespolyhandicap.org
SUMMARY:ISAAC francophone - 1ères assises de la CAA
DESCRIPTION:Autour du thème « Communiquer\, ce n’est pas facultatif »\, Isaac Francophone organise le vendredi 24 mars 2023 au FIAP Jean Monnet à Paris ses premières Assises de la CAA.\n\nA Isaac\, nous militons chaque jour pour reconnaître la communication non pas comme une compétence à acquérir mais un droit\, « juste » un droit !\n\n\nLors de cette journée\, nous souhaitons rassembler des personnes de différents profils pour réfléchir ENSEMBLE à déterminer la bonne réussite des parcours de vie des utilisateurs de CAA\, de leurs familles\, aidants et professionnels. Nous en sommes convaincus\, quelque-soit l’outil de communication ce qui va déterminer la bonne réussite c’est l’humain !\n\n\nAu programme : 4 thématiques d’atelier au format « World café »\nLe « World Café » est un processus créatif qui vise à faciliter le dialogue constructif et le partage de connaissances et d’idées\, en vue de créer un réseau d’échanges et d’actions !\n\nProgramme et inscription à venir
URL:https://ressourcespolyhandicap.org/evenements/isaac-francophone-1eres-assises-de-la-caa/
CATEGORIES:Evenements partenaires
ATTACH;FMTTYPE=image/png:https://ressourcespolyhandicap.org/wp-content/uploads/2022/10/Bannière-ASSISES-de-la-CAA-1024x576-1.png
END:VEVENT
BEGIN:VEVENT
DTSTART;VALUE=DATE:20230324
DTEND;VALUE=DATE:20230325
DTSTAMP:20260421T100730
CREATED:20221209T124615Z
LAST-MODIFIED:20230203T130828Z
UID:5753-1679616000-1679702399@ressourcespolyhandicap.org
SUMMARY:CESAP - Journée médicale "Soins palliatifs\, douleur et polyhandicap"
DESCRIPTION:Mobiliser les ressources des soins palliatifs et de l’accompagnement de la personne polyhandicapée apparaît essentiel tout au long du parcours de vie de la personne. La prise en charge peut souvent être d’emblée palliative\, dans la mesure où il n’existe pas de traitement curatif de la pathologie neurologique. La survenue de décompensations de la pathologie sous-jacente requiert aussi des soins spécifiques permettant au sujet de passer un ou plusieurs « caps ». \nLa démarche palliative dont les personnes polyhandicapées relèvent vise à atteindre le meilleur confort possible avec notamment la lutte contre la douleur\, la prise en compte des dimensions plurielles de la souffrance\, qu’elle soit physique\, psychique\, sociale\, environnementale et éthique. Chaque personne nécessite que soit pensée la proportionnalité des soins\, adaptée au présent et à l’avenir possible. Il s’agit pour les soignants d’être dans une démarche collégiale de recherche active d’un projet de soins et de vie ajusté visant l’épanouissement de la personne\, tout en assurant la permanence du lien avec le sujet\, le maintien d’un dialogue étroit avec la famille et les aidants. \nINFORMATIONS PRATIQUES\nParis • 24 mars 2023\nProfessionnels : 340 € par personne. -25% à partir de 3 bulletins et plus\, pour le même établissement (remplir 1 bulletin par personne).\nProches aidants : 42 € par personne. \nFiche d’inscription
URL:https://ressourcespolyhandicap.org/evenements/cesap-journee-medicale-soins-palliatifs-douleur-et-polyhandicap/
CATEGORIES:À la une
ATTACH;FMTTYPE=image/png:https://ressourcespolyhandicap.org/wp-content/uploads/2021/10/Cesap-formation-logo_formation.png
END:VEVENT
END:VCALENDAR