BEGIN:VCALENDAR
VERSION:2.0
PRODID:-//Association Ressources Polyhandicap Hauts-de-France - ECPv6.15.20//NONSGML v1.0//EN
CALSCALE:GREGORIAN
METHOD:PUBLISH
X-ORIGINAL-URL:https://ressourcespolyhandicap.org
X-WR-CALDESC:Évènements pour Association Ressources Polyhandicap Hauts-de-France
REFRESH-INTERVAL;VALUE=DURATION:PT1H
X-Robots-Tag:noindex
X-PUBLISHED-TTL:PT1H
BEGIN:VTIMEZONE
TZID:Europe/Paris
BEGIN:DAYLIGHT
TZOFFSETFROM:+0100
TZOFFSETTO:+0200
TZNAME:CEST
DTSTART:20240331T010000
END:DAYLIGHT
BEGIN:STANDARD
TZOFFSETFROM:+0200
TZOFFSETTO:+0100
TZNAME:CET
DTSTART:20241027T010000
END:STANDARD
BEGIN:DAYLIGHT
TZOFFSETFROM:+0100
TZOFFSETTO:+0200
TZNAME:CEST
DTSTART:20250330T010000
END:DAYLIGHT
BEGIN:STANDARD
TZOFFSETFROM:+0200
TZOFFSETTO:+0100
TZNAME:CET
DTSTART:20251026T010000
END:STANDARD
BEGIN:DAYLIGHT
TZOFFSETFROM:+0100
TZOFFSETTO:+0200
TZNAME:CEST
DTSTART:20260329T010000
END:DAYLIGHT
BEGIN:STANDARD
TZOFFSETFROM:+0200
TZOFFSETTO:+0100
TZNAME:CET
DTSTART:20261025T010000
END:STANDARD
END:VTIMEZONE
BEGIN:VEVENT
DTSTART;VALUE=DATE:20250116
DTEND;VALUE=DATE:20250117
DTSTAMP:20260421T123450
CREATED:20240719T081724Z
LAST-MODIFIED:20241004T112632Z
UID:6288-1736985600-1737071999@ressourcespolyhandicap.org
SUMMARY:1ère rencontre des Centres de Ressources Polyhandicap francophones
DESCRIPTION:La 1ère rencontre des Centres de Ressources polyhandicap francophones est prévue le 16 janvier 2025 à Paris \nL’expertise collective « Polyhandicap en France » de l’INSERM (Mai 2024) recommande d’appuyer le parcours coordonné des personnes en situation de polyhandicap « sur des centres d’expertise et de ressources polyhandicap (existants ou à créer) régionaux et/ou nationaux apportant un soutien ponctuel ou prolongé aux équipes et aux familles » Synthèse et Recommandations Polyhandicap en France INSERM). \nEn plus des Centres de ressources polyhandicap existant\, plusieurs initiatives ont vu le jour. Qu’ils s’agissent de Pôles de ressources\, de missions polyhandicap\, d’équipe d’accompagnement ou de centre de ressources\, tous ont pour mission une meilleure connaissance du polyhandicap et de son environnement pour un meilleur accompagnement des personnes polyhandicapées et de leur entourage. \nCes équipes vous proposent une journée de rencontre le 16 janvier 2025\, à Paris\, afin de mieux les connaitre et de réfléchir ensemble aux actions et partenariats à mettre en œuvre. \nProgramme Journée des Centres de Ressources Polyhandicap du 16 janvier 2025 \nSi vous souhaitez participer à cette première rencontre des centres de ressources polyhandicap\, merci de retourner le bulletin d’inscription\, en pièce jointe\, complété\, à :  contact@crmh.fr \n 
URL:https://ressourcespolyhandicap.org/evenements/1ere-rencontre-des-centres-de-ressources-polyhandicap/
LOCATION:Paris\, France
CATEGORIES:À la une
ATTACH;FMTTYPE=image/png:https://ressourcespolyhandicap.org/wp-content/uploads/2024/07/save-the-date-5-1.png
END:VEVENT
END:VCALENDAR