BEGIN:VCALENDAR
VERSION:2.0
PRODID:-//Association Ressources Polyhandicap Hauts-de-France - ECPv6.15.20//NONSGML v1.0//EN
CALSCALE:GREGORIAN
METHOD:PUBLISH
X-ORIGINAL-URL:https://ressourcespolyhandicap.org
X-WR-CALDESC:Évènements pour Association Ressources Polyhandicap Hauts-de-France
REFRESH-INTERVAL;VALUE=DURATION:PT1H
X-Robots-Tag:noindex
X-PUBLISHED-TTL:PT1H
BEGIN:VTIMEZONE
TZID:Europe/Paris
BEGIN:DAYLIGHT
TZOFFSETFROM:+0100
TZOFFSETTO:+0200
TZNAME:CEST
DTSTART:20220327T010000
END:DAYLIGHT
BEGIN:STANDARD
TZOFFSETFROM:+0200
TZOFFSETTO:+0100
TZNAME:CET
DTSTART:20221030T010000
END:STANDARD
BEGIN:DAYLIGHT
TZOFFSETFROM:+0100
TZOFFSETTO:+0200
TZNAME:CEST
DTSTART:20230326T010000
END:DAYLIGHT
BEGIN:STANDARD
TZOFFSETFROM:+0200
TZOFFSETTO:+0100
TZNAME:CET
DTSTART:20231029T010000
END:STANDARD
BEGIN:DAYLIGHT
TZOFFSETFROM:+0100
TZOFFSETTO:+0200
TZNAME:CEST
DTSTART:20240331T010000
END:DAYLIGHT
BEGIN:STANDARD
TZOFFSETFROM:+0200
TZOFFSETTO:+0100
TZNAME:CET
DTSTART:20241027T010000
END:STANDARD
END:VTIMEZONE
BEGIN:VEVENT
DTSTART;VALUE=DATE:20230308
DTEND;VALUE=DATE:20230311
DTSTAMP:20260421T114435
CREATED:20221020T142911Z
LAST-MODIFIED:20230203T130836Z
UID:5700-1678233600-1678492799@ressourcespolyhandicap.org
SUMMARY:29èmes Journées Pédiadol – La douleur de l’enfant. Quelles réponses ?
DESCRIPTION:La journée plénière se déroulera le 9 mars\, à l’UNESCO (Paris). Les 8 et 10 mars\, les ateliers auront lieu à la Faculté Saint-Antoine et à l’Hôpital Trousseau pour allier théorie et pratique lors de deux journées de formation. \nLe thème général de cette nouvelle édition est une réflexion autour de la reconnaissance et la mise en mots des besoins de chacun : enfant\, parents et soignants face à la douleur. \nProgramme et inscription
URL:https://ressourcespolyhandicap.org/evenements/29emes-journees-pediadol-la-douleur-de-lenfant-quelles-reponses/
CATEGORIES:À la une,Evenements partenaires
ATTACH;FMTTYPE=image/jpeg:https://ressourcespolyhandicap.org/wp-content/uploads/2022/10/Pediadol-affiche-congres-2023-212x300-1.jpg
END:VEVENT
END:VCALENDAR