BEGIN:VCALENDAR
VERSION:2.0
PRODID:-//Association Ressources Polyhandicap Hauts-de-France - ECPv6.15.20//NONSGML v1.0//EN
CALSCALE:GREGORIAN
METHOD:PUBLISH
X-ORIGINAL-URL:https://ressourcespolyhandicap.org
X-WR-CALDESC:Évènements pour Association Ressources Polyhandicap Hauts-de-France
REFRESH-INTERVAL;VALUE=DURATION:PT1H
X-Robots-Tag:noindex
X-PUBLISHED-TTL:PT1H
BEGIN:VTIMEZONE
TZID:Europe/Paris
BEGIN:DAYLIGHT
TZOFFSETFROM:+0100
TZOFFSETTO:+0200
TZNAME:CEST
DTSTART:20220327T010000
END:DAYLIGHT
BEGIN:STANDARD
TZOFFSETFROM:+0200
TZOFFSETTO:+0100
TZNAME:CET
DTSTART:20221030T010000
END:STANDARD
BEGIN:DAYLIGHT
TZOFFSETFROM:+0100
TZOFFSETTO:+0200
TZNAME:CEST
DTSTART:20230326T010000
END:DAYLIGHT
BEGIN:STANDARD
TZOFFSETFROM:+0200
TZOFFSETTO:+0100
TZNAME:CET
DTSTART:20231029T010000
END:STANDARD
BEGIN:DAYLIGHT
TZOFFSETFROM:+0100
TZOFFSETTO:+0200
TZNAME:CEST
DTSTART:20240331T010000
END:DAYLIGHT
BEGIN:STANDARD
TZOFFSETFROM:+0200
TZOFFSETTO:+0100
TZNAME:CET
DTSTART:20241027T010000
END:STANDARD
BEGIN:DAYLIGHT
TZOFFSETFROM:+0100
TZOFFSETTO:+0200
TZNAME:CEST
DTSTART:20250330T010000
END:DAYLIGHT
BEGIN:STANDARD
TZOFFSETFROM:+0200
TZOFFSETTO:+0100
TZNAME:CET
DTSTART:20251026T010000
END:STANDARD
BEGIN:DAYLIGHT
TZOFFSETFROM:+0100
TZOFFSETTO:+0200
TZNAME:CEST
DTSTART:20260329T010000
END:DAYLIGHT
BEGIN:STANDARD
TZOFFSETFROM:+0200
TZOFFSETTO:+0100
TZNAME:CET
DTSTART:20261025T010000
END:STANDARD
END:VTIMEZONE
BEGIN:VEVENT
DTSTART;VALUE=DATE:20230609
DTEND;VALUE=DATE:20230610
DTSTAMP:20260421T131805
CREATED:20230202T141520Z
LAST-MODIFIED:20230526T114447Z
UID:5826-1686268800-1686355199@ressourcespolyhandicap.org
SUMMARY:Les journées du CRMH - Suivi orthopédique de l'enfant polyhandicapé
DESCRIPTION:Dans le cadre des « journées du CRMH »\, nous avons le plaisir de vous proposer une rencontre autour du suivi orthopédique de l’enfant polyhandicapé qui se tiendra le vendredi 9 juin à Paris (lieu à confirmer en fonction du nombre de participants). \nPré programme Journée Ortho Enfants \nInscription avant le 31 mars 2023.
URL:https://ressourcespolyhandicap.org/evenements/les-journees-du-crmh-suivi-orthopedique-de-lenfant-polyhandicape/
LOCATION:Paris\, France
CATEGORIES:Evenements partenaires
ATTACH;FMTTYPE=image/jpeg:https://ressourcespolyhandicap.org/wp-content/uploads/2018/04/Logo-CRMH.jpg
END:VEVENT
BEGIN:VEVENT
DTSTART;TZID=Europe/Paris:20230926T100000
DTEND;TZID=Europe/Paris:20230926T120000
DTSTAMP:20260421T131805
CREATED:20230630T065301Z
LAST-MODIFIED:20230630T065301Z
UID:5932-1695722400-1695729600@ressourcespolyhandicap.org
SUMMARY:Mieux connaître la personne polyhandicapée
DESCRIPTION:Webinaire proposé par le CRMH aux professionnels des services administratifs et généraux des ESMS le 26 septembre 2023 de 10h à 12h : Mieux connaître la personne polyhandicapée\, animé par Philippe Rosset \nEn savoir plus
URL:https://ressourcespolyhandicap.org/evenements/mieux-connaitre-la-personne-polyhandicapee/
CATEGORIES:Evenements partenaires
ATTACH;FMTTYPE=image/jpeg:https://ressourcespolyhandicap.org/wp-content/uploads/2018/04/Logo-CRMH.jpg
END:VEVENT
BEGIN:VEVENT
DTSTART;VALUE=DATE:20241017
DTEND;VALUE=DATE:20241018
DTSTAMP:20260421T131805
CREATED:20240719T073044Z
LAST-MODIFIED:20240719T073044Z
UID:6280-1729123200-1729209599@ressourcespolyhandicap.org
SUMMARY:Journée régionale CAA : communiquer\, un droit fondamental
DESCRIPTION:L’Equipe Relais Handicaps Rares (ERHR) Bourgogne Franche Comté organise avec ses partenaires une journée régionale sur la Communication\nAlternative et Augmentée (CAA). \nCette rencontre a pour objet d’apporter de l’information\, de la connaissance et un éveil des consciences sur la nécessité de la mise en place de\nmodes de communication alternative ou augmentée pour toute personne en ayant besoin\, afin que soit reconnue la parole\, la pensée de chacun\, quel que soit la forme sous laquelle elle est exprimée.\nCette journée s’adresse à toute personne concernée par la question de la CAA\, et s’inscrit dans la dynamique du groupement national pour les handicaps rares (GNCHR)\, espère ainsi fédérer et développer un réseau d’acteurs et de partenaires régionaux\, experts ou sensibilisés à la démarche sur les territoires. \nConsulter le préambule \nConsulter le pré-programme \nInscrivez vous sur ce formulaire
URL:https://ressourcespolyhandicap.org/evenements/journee-regionale-caa-communiquer-un-droit-fondamental/
LOCATION:Dijon\, Dijon\, France
CATEGORIES:À la une,Evenements partenaires
ATTACH;FMTTYPE=image/png:https://ressourcespolyhandicap.org/wp-content/uploads/2024/03/erhr-nord-ouest.png
END:VEVENT
BEGIN:VEVENT
DTSTART;TZID=Europe/Paris:20241021T090000
DTEND;TZID=Europe/Paris:20241021T133000
DTSTAMP:20260421T131805
CREATED:20240719T085207Z
LAST-MODIFIED:20240927T085748Z
UID:6300-1729501200-1729517400@ressourcespolyhandicap.org
SUMMARY:Prendre en compte la vie affective et sexuelle des personnes polyhandicapées : quels rôles pour les cadres des ESSMS ?
DESCRIPTION:Le CRMH en partenariat avec Intim’agir IDF organise une matinale le 21 octobre 2024 de 9h à 13h30 à Paris sur le thème : \nPrendre en compte la vie affective et sexuelle des personnes polyhandicapées : quels rôles pour les cadres des ESSMS ? \nProgramme \nInscription
URL:https://ressourcespolyhandicap.org/evenements/prendre-en-compte-la-vie-affective-et-sexuelle-des-personnes-polyhandicapees-quels-roles-pour-les-cadres-des-essms/
LOCATION:Paris\, France
CATEGORIES:À la une,Evenements partenaires
ATTACH;FMTTYPE=image/jpeg:https://ressourcespolyhandicap.org/wp-content/uploads/2018/04/Logo-CRMH.jpg
END:VEVENT
BEGIN:VEVENT
DTSTART;VALUE=DATE:20241121
DTEND;VALUE=DATE:20241122
DTSTAMP:20260421T131805
CREATED:20240719T091845Z
LAST-MODIFIED:20240719T091845Z
UID:6304-1732147200-1732233599@ressourcespolyhandicap.org
SUMMARY:Colloque sur la Communication Alternative et Améliorée
DESCRIPTION:L’équipe relais handicaps rares de Nouvelle aquitaine organise un colloque le 21 novembre 2024 un colloque la communication alternative et améliorée. \nProgramme et inscription
URL:https://ressourcespolyhandicap.org/evenements/colloque-sur-la-communication-alternative-et-amelioree/
LOCATION:Bordeaux\, Bordeaux
CATEGORIES:Evenements partenaires
ATTACH;FMTTYPE=image/png:https://ressourcespolyhandicap.org/wp-content/uploads/2024/07/croppedimage-b45e721626e6498989a41f0a95d99357.png
END:VEVENT
BEGIN:VEVENT
DTSTART;VALUE=DATE:20251118
DTEND;VALUE=DATE:20251119
DTSTAMP:20260421T131805
CREATED:20251017T135632Z
LAST-MODIFIED:20251017T135632Z
UID:6651-1763424000-1763510399@ressourcespolyhandicap.org
SUMMARY:Webinaire "Mieux connaître son environnement\, les établissements et services médico-sociaux"
DESCRIPTION:Le centre de ressources multihandicap propose un webinaire sur « mieux connaître son environnement\, les établissements et services médico-sociaux (ESMS) »  \nÀ destination des personnels administratifs et généraux du secteur médico-social. \nCes temps de formation sont conçus pour permettre à vous et vos équipes de : – Mettre à jour vos connaissances\n– Mieux comprendre le cadre\, le fonctionnement et les enjeux du secteur médico-social\n– Situer les différents acteurs qui le composent. \n Inscriptions :  01 53 10 37 37\n contact@crmh.fr
URL:https://ressourcespolyhandicap.org/evenements/webinaire-mieux-connaitre-son-environnement-les-etablissements-et-services-medico-sociaux/
CATEGORIES:Evenements partenaires
END:VEVENT
END:VCALENDAR