BEGIN:VCALENDAR
VERSION:2.0
PRODID:-//Association Ressources Polyhandicap Hauts-de-France - ECPv6.15.20//NONSGML v1.0//EN
CALSCALE:GREGORIAN
METHOD:PUBLISH
X-WR-CALNAME:Association Ressources Polyhandicap Hauts-de-France
X-ORIGINAL-URL:https://ressourcespolyhandicap.org
X-WR-CALDESC:Évènements pour Association Ressources Polyhandicap Hauts-de-France
REFRESH-INTERVAL;VALUE=DURATION:PT1H
X-Robots-Tag:noindex
X-PUBLISHED-TTL:PT1H
BEGIN:VTIMEZONE
TZID:Europe/Paris
BEGIN:DAYLIGHT
TZOFFSETFROM:+0100
TZOFFSETTO:+0200
TZNAME:CEST
DTSTART:20230326T010000
END:DAYLIGHT
BEGIN:STANDARD
TZOFFSETFROM:+0200
TZOFFSETTO:+0100
TZNAME:CET
DTSTART:20231029T010000
END:STANDARD
BEGIN:DAYLIGHT
TZOFFSETFROM:+0100
TZOFFSETTO:+0200
TZNAME:CEST
DTSTART:20240331T010000
END:DAYLIGHT
BEGIN:STANDARD
TZOFFSETFROM:+0200
TZOFFSETTO:+0100
TZNAME:CET
DTSTART:20241027T010000
END:STANDARD
BEGIN:DAYLIGHT
TZOFFSETFROM:+0100
TZOFFSETTO:+0200
TZNAME:CEST
DTSTART:20250330T010000
END:DAYLIGHT
BEGIN:STANDARD
TZOFFSETFROM:+0200
TZOFFSETTO:+0100
TZNAME:CET
DTSTART:20251026T010000
END:STANDARD
END:VTIMEZONE
BEGIN:VEVENT
DTSTART;VALUE=DATE:20240516
DTEND;VALUE=DATE:20240518
DTSTAMP:20260421T113544
CREATED:20240124T075756Z
LAST-MODIFIED:20240124T075756Z
UID:6097-1715817600-1715990399@ressourcespolyhandicap.org
SUMMARY:6èmes journées des consultations dédiées handicap
DESCRIPTION:Les 6èmes journées des consultations dédiées Handicap se dérouleront à Montpellier les 16 et 17 mai 2024. \nPlusieurs thèmes y seront abordés notamment la vie affective et sexuelle et la prévention des violences et l’habituation aux soins. \nPour en savoir plus
URL:https://ressourcespolyhandicap.org/evenements/6emes-journees-des-consultations-dediees-handicap/
LOCATION:Montpellier
ATTACH;FMTTYPE=image/png:https://ressourcespolyhandicap.org/wp-content/uploads/2024/01/sofcodh.png
END:VEVENT
BEGIN:VEVENT
DTSTART;VALUE=DATE:20240517
DTEND;VALUE=DATE:20240518
DTSTAMP:20260421T113544
CREATED:20240412T075538Z
LAST-MODIFIED:20240412T075538Z
UID:6160-1715904000-1715990399@ressourcespolyhandicap.org
SUMMARY:Accompagner la vie relationnelle\, intime\, affective et sexuelle des personnes polyhandicapées
DESCRIPTION:Le CESAP propose une formation sur la thématique de la vie relationnelle\, intime\, affective et sexuelle des personnes polyhandicapées \nAujourd’hui\, bien que les représentations sur la vie relationnelle\, intime\, affective et sexuelle des personnes polyhandicapées évoluent\, de nombreuses questions cliniques\, juridiques et éthiques demeurent. \nProgramme et inscription \n 
URL:https://ressourcespolyhandicap.org/evenements/accompagner-la-vie-relationnelle-intime-affective-et-sexuelle-des-personnes-polyhandicapees-2/
ATTACH;FMTTYPE=image/jpeg:https://ressourcespolyhandicap.org/wp-content/uploads/2018/04/logo-cesap.jpg
END:VEVENT
BEGIN:VEVENT
DTSTART;TZID=Europe/Paris:20240523T180000
DTEND;TZID=Europe/Paris:20240523T190000
DTSTAMP:20260421T113544
CREATED:20240517T140041Z
LAST-MODIFIED:20240517T140041Z
UID:6242-1716487200-1716490800@ressourcespolyhandicap.org
SUMMARY:DU polyhandicap
DESCRIPTION:Le DU polyhandicap\, éducation et apprentissages propose et articule différents points de vue concernant les besoins spécifiques de la personne avec polyhandicap et les conditions requises au développement de ses apprentissages\, à partir de travaux de chercheurs ainsi que de l’expérience et l’expertise de professionnels et de parents. En ouvrant cette formation aux acteurs de l’Éducation nationale\, à ceux des secteurs médico-éducatif ou sanitaire (secteurs public et privé) et à des parents\, l’objectif de ce DU est de réunir des expériences et cultures professionnelles diverses au service de l’accompagnement de la personne avec polyhandicap. »\n\nVous souhaitez en savoir plus ou candidater ?\nVoici la page du DU Polyhandicap\, éducation et apprentissages\n\nL’INSEI propose deux Webinaires de présentation du DU Polyhandicap\, éducation et apprentissages : \n\nle jeudi 23 mai de 18h à 19h en visioconférence\nle lundi 24 juin de 18h à 19h en visioconférence\n\n\nLors de cette présentation\, seront abordés les points suivants : modalités de candidature et d’admission\, contenu\, calendrier hybride présentiel / distanciel\, tarifs.\n\nPour toutes inscriptions\, merci de contacter : formation@inshea.fr
URL:https://ressourcespolyhandicap.org/evenements/du-polyhandicap/
ATTACH;FMTTYPE=image/jpeg:https://ressourcespolyhandicap.org/wp-content/uploads/2024/05/1715864282031.jpg
END:VEVENT
BEGIN:VEVENT
DTSTART;VALUE=DATE:20240524
DTEND;VALUE=DATE:20240525
DTSTAMP:20260421T113544
CREATED:20231207T150022Z
LAST-MODIFIED:20231207T150139Z
UID:6061-1716508800-1716595199@ressourcespolyhandicap.org
SUMMARY:Douleur\, inconfort\, mal-être et polyhandicap: comment mieux faire ?
DESCRIPTION:Le petit conservatoire du handicap propose une formation sur la douleur\, l’inconfort\, le mal-être. \n\n\nDans cette formation\, vous apprenez : \n\n\n\nComment détecter et évaluer l’inconfort et la douleur\nComment identifier les causes possibles de douleur\, d’inconfort et de mal-être\nA envisager différentes modalités de prise en charge pour favoriser le mieux-être\nA questionner les pratiques\, en particulier sur le plan de leurs implications éthiques\n\nCette formation s’adresse à tout·e professionnel·le (éducatrice ou éducateur\, enseignant·e spécialisé·e\, thérapeute\, médecin\, infirmier-ère\,…) au contact avec d’enfants ou de jeunes personnes présentant un polyhandicap \nInscription
URL:https://ressourcespolyhandicap.org/evenements/douleur-inconfort-mal-etre-et-polyhandicap-comment-mieux-faire/
CATEGORIES:À la une
ATTACH;FMTTYPE=image/png:https://ressourcespolyhandicap.org/wp-content/uploads/2023/12/Logo-LPCP.png
END:VEVENT
END:VCALENDAR