BEGIN:VCALENDAR
VERSION:2.0
PRODID:-//Association Ressources Polyhandicap Hauts-de-France - ECPv6.15.20//NONSGML v1.0//EN
CALSCALE:GREGORIAN
METHOD:PUBLISH
X-WR-CALNAME:Association Ressources Polyhandicap Hauts-de-France
X-ORIGINAL-URL:https://ressourcespolyhandicap.org
X-WR-CALDESC:Évènements pour Association Ressources Polyhandicap Hauts-de-France
REFRESH-INTERVAL;VALUE=DURATION:PT1H
X-Robots-Tag:noindex
X-PUBLISHED-TTL:PT1H
BEGIN:VTIMEZONE
TZID:Europe/Paris
BEGIN:DAYLIGHT
TZOFFSETFROM:+0100
TZOFFSETTO:+0200
TZNAME:CEST
DTSTART:20240331T010000
END:DAYLIGHT
BEGIN:STANDARD
TZOFFSETFROM:+0200
TZOFFSETTO:+0100
TZNAME:CET
DTSTART:20241027T010000
END:STANDARD
BEGIN:DAYLIGHT
TZOFFSETFROM:+0100
TZOFFSETTO:+0200
TZNAME:CEST
DTSTART:20250330T010000
END:DAYLIGHT
BEGIN:STANDARD
TZOFFSETFROM:+0200
TZOFFSETTO:+0100
TZNAME:CET
DTSTART:20251026T010000
END:STANDARD
BEGIN:DAYLIGHT
TZOFFSETFROM:+0100
TZOFFSETTO:+0200
TZNAME:CEST
DTSTART:20260329T010000
END:DAYLIGHT
BEGIN:STANDARD
TZOFFSETFROM:+0200
TZOFFSETTO:+0100
TZNAME:CET
DTSTART:20261025T010000
END:STANDARD
END:VTIMEZONE
BEGIN:VEVENT
DTSTART;VALUE=DATE:20250207
DTEND;VALUE=DATE:20250208
DTSTAMP:20260421T113534
CREATED:20250123T104247Z
LAST-MODIFIED:20250123T104428Z
UID:6482-1738886400-1738972799@ressourcespolyhandicap.org
SUMMARY:Emotions et polyhandicap : S’é-mouvoir ensemble
DESCRIPTION:Le Petit conservatoire du Polyhandicap en partenariat avec l’Université de Fribourg organise une journée d’étude sur les émotions et le polyhandicap le 07 février 2025. \nLes émotions sont le fruit d’une interaction entre une personne qui les éprouve et son environnement. Elles jouent un rôle-clé dans la motivation à communiquer\, agir et apprendre. Mais quelles sont les composantes des émotions ? Quels mécanismes sont impliqués dans la régulation émotionnelle ? Dans quelle mesure les émotions sont-elles universelles\, spontanées\, ou ritualisées ? Comment mesurer les émotions chez les personnes présentant un polyhandicap ? Comment soutenir leur bien-être émotionnel ? \nC’est à ces questions et bien d’autres encore que les conférencier·es s’attelleront à répondre. Comme d’habitude dans nos journées d’étude\, elles seront traitées sous divers angles épistémologiques. David Sander abordera les émotions dans une approche psychologique\, alors que David Le Breton le fera dans une perspective anthropologique et sociologique. En matière de polyhandicapologie\, Elise Marceaux-Dufour présentera ses recherches sur les signaux comportementaux et physiologiques chez des adultes présentant un polyhandicap\, alors que le groupe de travail du guide Olf-action proposera l’utilisation des odeurs comme moyen d’observation des réponses émotionnelles et de soutien au bien-être des apprenant·es présentant un polyhandicap. \nProgramme et inscription (avant le 1er février)
URL:https://ressourcespolyhandicap.org/evenements/emotions-et-polyhandicap-se-mouvoir-ensemble/
CATEGORIES:À la une
ATTACH;FMTTYPE=image/jpeg:https://ressourcespolyhandicap.org/wp-content/uploads/2025/01/A5_Emotions_Polyhandicap_recto-722x1024-1.jpg
END:VEVENT
BEGIN:VEVENT
DTSTART;TZID=Europe/Paris:20250226T170000
DTEND;TZID=Europe/Paris:20250226T200000
DTSTAMP:20260421T113534
CREATED:20241128T132351Z
LAST-MODIFIED:20250123T132250Z
UID:6396-1740589200-1740600000@ressourcespolyhandicap.org
SUMMARY:Projection / Débat de "L'école du polyhandicap" en présence de Georges Saulus
DESCRIPTION:A l’issue de l’Assemblée Générale de l’Association ressources polyhandicap des Hauts-de-France\, le film « L’école du polyhandicap » sera projeté suivi d’un échange avec Georges Saulus. \nNous vous attendons au théâtre de l’oiseau mouche à Roubaix . \nProgramme \n16h30 – 18h00 Assemblée générale \n18h30 – 20h Projection du film (ouvert à tous) \nPour en savoir plus sur le film \nSi vous souhaitez assister à la projection du film\, inscrivez vous en ligne \n 
URL:https://ressourcespolyhandicap.org/evenements/projection-debat-de-lecole-du-polyhandicap-en-presence-de-georges-saulus/
CATEGORIES:À la une,Assemblée Générale
ATTACH;FMTTYPE=image/png:https://ressourcespolyhandicap.org/wp-content/uploads/2020/11/logo-ARP-contact-2.png
END:VEVENT
END:VCALENDAR